BEGIN:VCALENDAR
VERSION:2.0
PRODID:-//Optometry Scotland - ECPv6.15.20//NONSGML v1.0//EN
CALSCALE:GREGORIAN
METHOD:PUBLISH
X-WR-CALNAME:Optometry Scotland
X-ORIGINAL-URL:https://optometryscotland.org.uk
X-WR-CALDESC:Events for Optometry Scotland
REFRESH-INTERVAL;VALUE=DURATION:PT1H
X-Robots-Tag:noindex
X-PUBLISHED-TTL:PT1H
BEGIN:VTIMEZONE
TZID:Europe/London
BEGIN:DAYLIGHT
TZOFFSETFROM:+0000
TZOFFSETTO:+0100
TZNAME:BST
DTSTART:20240331T010000
END:DAYLIGHT
BEGIN:STANDARD
TZOFFSETFROM:+0100
TZOFFSETTO:+0000
TZNAME:GMT
DTSTART:20241027T010000
END:STANDARD
BEGIN:DAYLIGHT
TZOFFSETFROM:+0000
TZOFFSETTO:+0100
TZNAME:BST
DTSTART:20250330T010000
END:DAYLIGHT
BEGIN:STANDARD
TZOFFSETFROM:+0100
TZOFFSETTO:+0000
TZNAME:GMT
DTSTART:20251026T010000
END:STANDARD
BEGIN:DAYLIGHT
TZOFFSETFROM:+0000
TZOFFSETTO:+0100
TZNAME:BST
DTSTART:20260329T010000
END:DAYLIGHT
BEGIN:STANDARD
TZOFFSETFROM:+0100
TZOFFSETTO:+0000
TZNAME:GMT
DTSTART:20261025T010000
END:STANDARD
END:VTIMEZONE
BEGIN:VEVENT
DTSTART;TZID=Europe/London:20250324T093000
DTEND;TZID=Europe/London:20250324T163000
DTSTAMP:20260419T211405
CREATED:20250221T111400Z
LAST-MODIFIED:20250221T111400Z
UID:469-1742808600-1742833800@optometryscotland.org.uk
SUMMARY:Prescribing: Confidence\, Competence\, and Care
DESCRIPTION:
URL:https://optometryscotland.org.uk/event/prescribing-confidence-competence-and-care/
LOCATION:Stirling Court Hotel\, Stirling
END:VEVENT
BEGIN:VEVENT
DTSTART;TZID=Europe/London:20250226T190000
DTEND;TZID=Europe/London:20250226T200000
DTSTAMP:20260419T211405
CREATED:20250221T111223Z
LAST-MODIFIED:20250221T111223Z
UID:464-1740596400-1740600000@optometryscotland.org.uk
SUMMARY:For your eyes only – Exploring treatment & referral pathways between optometry and community pharmacy presented
DESCRIPTION:Speaker: Maxine McCabe\, NES Senior Educator \nRegister here
URL:https://optometryscotland.org.uk/event/for-your-eyes-only-exploring-treatment-referral-pathways-between-optometry-and-community-pharmacy-presented/
LOCATION:Online
END:VEVENT
BEGIN:VEVENT
DTSTART;TZID=Europe/London:20250223T100000
DTEND;TZID=Europe/London:20250223T163000
DTSTAMP:20260419T211405
CREATED:20250221T110857Z
LAST-MODIFIED:20250221T110857Z
UID:459-1740304800-1740328200@optometryscotland.org.uk
SUMMARY:Opening Your Eyes to Vascular Health Skills Day
DESCRIPTION:Register here
URL:https://optometryscotland.org.uk/event/opening-your-eyes-to-vascular-health-skills-day/
LOCATION:Golden Jubilee Conference Hotel\, Glasgow
END:VEVENT
END:VCALENDAR