BEGIN:VCALENDAR
VERSION:2.0
PRODID:-//Optometry Scotland - ECPv6.15.20//NONSGML v1.0//EN
CALSCALE:GREGORIAN
METHOD:PUBLISH
X-WR-CALNAME:Optometry Scotland
X-ORIGINAL-URL:https://optometryscotland.org.uk
X-WR-CALDESC:Events for Optometry Scotland
REFRESH-INTERVAL;VALUE=DURATION:PT1H
X-Robots-Tag:noindex
X-PUBLISHED-TTL:PT1H
BEGIN:VTIMEZONE
TZID:Europe/London
BEGIN:DAYLIGHT
TZOFFSETFROM:+0000
TZOFFSETTO:+0100
TZNAME:BST
DTSTART:20240331T010000
END:DAYLIGHT
BEGIN:STANDARD
TZOFFSETFROM:+0100
TZOFFSETTO:+0000
TZNAME:GMT
DTSTART:20241027T010000
END:STANDARD
BEGIN:DAYLIGHT
TZOFFSETFROM:+0000
TZOFFSETTO:+0100
TZNAME:BST
DTSTART:20250330T010000
END:DAYLIGHT
BEGIN:STANDARD
TZOFFSETFROM:+0100
TZOFFSETTO:+0000
TZNAME:GMT
DTSTART:20251026T010000
END:STANDARD
BEGIN:DAYLIGHT
TZOFFSETFROM:+0000
TZOFFSETTO:+0100
TZNAME:BST
DTSTART:20260329T010000
END:DAYLIGHT
BEGIN:STANDARD
TZOFFSETFROM:+0100
TZOFFSETTO:+0000
TZNAME:GMT
DTSTART:20261025T010000
END:STANDARD
END:VTIMEZONE
BEGIN:VEVENT
DTSTART;TZID=Europe/London:20250930T180000
DTEND;TZID=Europe/London:20250930T203000
DTSTAMP:20260419T201315
CREATED:20250923T095957Z
LAST-MODIFIED:20250923T095957Z
UID:1305-1759255200-1759264200@optometryscotland.org.uk
SUMMARY:Eye-Q quiz night - 3 interactive CPD points
DESCRIPTION:We’ve been having a brilliant time at our recent Eye-Q quiz nights – full of friendly rivalry\, laughter\, and a good dose of healthy competition! \n Last week’s champions were Team Kendal-mint\, taking the win out of 6 hospitals – a fantastic effort!  \n Our next Eye-Q Quiz Night is on Tuesday 30th September at SpaMedica Carlisle. 6pm for networking & buffet. \n✨ 3 interactive CPD points  Fun & prizes up for grabs  A great opportunity to connect with colleagues across sites \n Clinical Quiz Master – Amit Nakum Medical Retina Lead \nSpaces are still available –  come and test your knowledge while enjoying a relaxed and engaging evening as we go head to head with 8 other SpaMedica sites. \nSecure your space here  \nSpaMedica Eye-Q: our September Optometry Quiz Tickets\, Tue\, Sep 30\, 2025 at 6:00 PM | Eventbrite
URL:https://optometryscotland.org.uk/event/eye-q-quiz-night-3-interactive-cpd-points/
END:VEVENT
BEGIN:VEVENT
DTSTART;VALUE=DATE:20250921
DTEND;VALUE=DATE:20250923
DTSTAMP:20260419T201315
CREATED:20250916T093951Z
LAST-MODIFIED:20250916T093951Z
UID:1268-1758412800-1758585599@optometryscotland.org.uk
SUMMARY:Eyecare Education - Free Webinar
DESCRIPTION:Eyecare Birmingham is back at The Midlands Art Centre on 21st September. We have a packed day of CPD with education being delivered by: Aces\, Bausch & Lomb\, Scope\, CHEC & Mainline\, with more CPD available in the exhibition area.\n\n\n\n\n\n\n\n\n  \n\n\n\n\n\n\n\nThere will be over 20 Interactive CPD points available\, including peer review over two CPD tracks\, with breakfast pastries\, refreshments and a hot lunch buffet all provided.\n\n\n\n\n\n\n\n\n  \n\n\n\n\n\n\n\nTickets are just £59 per person!
URL:https://optometryscotland.org.uk/event/eyecare-education-free-webinar/
LOCATION:The Midlands Art Centre\, Cannon Hill Park\, Birmingham\, B12 9QH\, United Kingdom
END:VEVENT
BEGIN:VEVENT
DTSTART;TZID=Europe/London:20250630T183000
DTEND;TZID=Europe/London:20250630T203000
DTSTAMP:20260419T201315
CREATED:20250521T104713Z
LAST-MODIFIED:20250521T104713Z
UID:1068-1751308200-1751315400@optometryscotland.org.uk
SUMMARY:Scottish Optometry Sector Update - Aberdeen
DESCRIPTION:
URL:https://optometryscotland.org.uk/event/scottish-optometry-sector-update-aberdeen/
LOCATION:University of Aberdeen\, King's College\, Aberdeen\, AB24 3FX
END:VEVENT
BEGIN:VEVENT
DTSTART;TZID=Europe/London:20250624T183000
DTEND;TZID=Europe/London:20250624T203000
DTSTAMP:20260419T201315
CREATED:20250521T104323Z
LAST-MODIFIED:20250521T104323Z
UID:1064-1750789800-1750797000@optometryscotland.org.uk
SUMMARY:Scottish Optometry Sector Update - Glasgow
DESCRIPTION:
URL:https://optometryscotland.org.uk/event/scottish-optometry-sector-update-glasgow/
LOCATION:Universityof Strathclyde\, 16 Richmond Street\, Glasgow\, G1 1XQ\, United Kingdom
END:VEVENT
BEGIN:VEVENT
DTSTART;TZID=Europe/London:20250623T183000
DTEND;TZID=Europe/London:20250623T203000
DTSTAMP:20260419T201315
CREATED:20250521T103741Z
LAST-MODIFIED:20250521T103741Z
UID:1061-1750703400-1750710600@optometryscotland.org.uk
SUMMARY:Scottish Optometry Sector Update - Edinburgh
DESCRIPTION:
URL:https://optometryscotland.org.uk/event/scottish-optometry-sector-update-edinburgh/
LOCATION:University of Edinburgh\, South Hall Complex\, Old College\, South Bridge\, Edinburgh\, EH8 9YL
END:VEVENT
BEGIN:VEVENT
DTSTART;TZID=Europe/London:20250619T183000
DTEND;TZID=Europe/London:20250619T203000
DTSTAMP:20260419T201315
CREATED:20250521T102816Z
LAST-MODIFIED:20250521T102816Z
UID:1058-1750357800-1750365000@optometryscotland.org.uk
SUMMARY:Scottish Optometry Sector Update - Stirling
DESCRIPTION:
URL:https://optometryscotland.org.uk/event/scottish-optometry-sector-update-stirling/
LOCATION:Stirling Court Hotel\, Stirling
END:VEVENT
BEGIN:VEVENT
DTSTART;TZID=Europe/London:20250618T181500
DTEND;TZID=Europe/London:20250618T203000
DTSTAMP:20260419T201315
CREATED:20250521T102435Z
LAST-MODIFIED:20250521T102435Z
UID:1055-1750270500-1750278600@optometryscotland.org.uk
SUMMARY:Scottish Optometry Sector Update - Inverness
DESCRIPTION:
URL:https://optometryscotland.org.uk/event/scottish-optometry-sector-update-inverness/
LOCATION:UHI House\, University of Highlands and Islands\, UHI House Old Perth Road\, Inverness\, IV2 3JH\, United Kingdom
END:VEVENT
BEGIN:VEVENT
DTSTART;TZID=Europe/London:20250512T190000
DTEND;TZID=Europe/London:20250512T213000
DTSTAMP:20260419T201315
CREATED:20250403T120253Z
LAST-MODIFIED:20250403T121108Z
UID:940-1747076400-1747085400@optometryscotland.org.uk
SUMMARY:Cataract surgery education evening with National Eyecare Workstream\, CFSD
DESCRIPTION:“A must-attend event for optometrists\, dispensing Opticians\, pre-reg’s and students to hear about the latest developments in cataract surgery delivery in Scotland\, including high flow surgery\, simultaneous same day surgery and the latest evidence about post-surgery outcomes and complications.  \nGuest speakers: Dr John Ellis & Dr John Buchan. Delivered by National Eyecare Workstream\, CFSD.  \n2 interactive CPD points available \n 
URL:https://optometryscotland.org.uk/event/cataract-surgery-education-evening/
END:VEVENT
BEGIN:VEVENT
DTSTART;TZID=Europe/London:20250422T130000
DTEND;TZID=Europe/London:20250422T134500
DTSTAMP:20260419T201315
CREATED:20250410T092013Z
LAST-MODIFIED:20250410T092013Z
UID:956-1745326800-1745329500@optometryscotland.org.uk
SUMMARY:Lunch and Learn
DESCRIPTION:Ready to enhance your skills while enjoying your lunch? Join us for our “Lunch & Learn” session on Communicating Health Information. \nIn this dynamic online workshop\, we will dive into the critical role health literacy plays in optometry\, exploring how varying levels of understanding can impact patient outcomes. You’ll leave with practical tips to improve your communication and boost patient care. \nEarn 1 interactive CPD point by simply attending the session for at least 30 minutes and completing a short follow-up exercise within 2 weeks.
URL:https://optometryscotland.org.uk/event/lunch-and-learn/
LOCATION:Online
END:VEVENT
BEGIN:VEVENT
DTSTART;TZID=Europe/London:20250327T190000
DTEND;TZID=Europe/London:20250327T203000
DTSTAMP:20260419T201315
CREATED:20250221T111451Z
LAST-MODIFIED:20250221T111451Z
UID:472-1743102000-1743107400@optometryscotland.org.uk
SUMMARY:Paediatric dispensing cases
DESCRIPTION:Working in small\, facilitated groups you will practice taking a full suite of accurate facial measurements from a live patient model. You will then use these measurements to create a card frame front for your model to allow a visualisation of how facial measurements and spectacle frame design and construction are linked. \nRegister here
URL:https://optometryscotland.org.uk/event/paediatric-dispensing-cases/
END:VEVENT
BEGIN:VEVENT
DTSTART;TZID=Europe/London:20250324T093000
DTEND;TZID=Europe/London:20250324T163000
DTSTAMP:20260419T201315
CREATED:20250221T111400Z
LAST-MODIFIED:20250221T111400Z
UID:469-1742808600-1742833800@optometryscotland.org.uk
SUMMARY:Prescribing: Confidence\, Competence\, and Care
DESCRIPTION:
URL:https://optometryscotland.org.uk/event/prescribing-confidence-competence-and-care/
LOCATION:Stirling Court Hotel\, Stirling
END:VEVENT
BEGIN:VEVENT
DTSTART;TZID=Europe/London:20250226T190000
DTEND;TZID=Europe/London:20250226T200000
DTSTAMP:20260419T201315
CREATED:20250221T111223Z
LAST-MODIFIED:20250221T111223Z
UID:464-1740596400-1740600000@optometryscotland.org.uk
SUMMARY:For your eyes only – Exploring treatment & referral pathways between optometry and community pharmacy presented
DESCRIPTION:Speaker: Maxine McCabe\, NES Senior Educator \nRegister here
URL:https://optometryscotland.org.uk/event/for-your-eyes-only-exploring-treatment-referral-pathways-between-optometry-and-community-pharmacy-presented/
LOCATION:Online
END:VEVENT
BEGIN:VEVENT
DTSTART;TZID=Europe/London:20250223T100000
DTEND;TZID=Europe/London:20250223T163000
DTSTAMP:20260419T201315
CREATED:20250221T110857Z
LAST-MODIFIED:20250221T110857Z
UID:459-1740304800-1740328200@optometryscotland.org.uk
SUMMARY:Opening Your Eyes to Vascular Health Skills Day
DESCRIPTION:Register here
URL:https://optometryscotland.org.uk/event/opening-your-eyes-to-vascular-health-skills-day/
LOCATION:Golden Jubilee Conference Hotel\, Glasgow
END:VEVENT
END:VCALENDAR