BEGIN:VCALENDAR
VERSION:2.0
PRODID:-//Optometry Scotland - ECPv6.15.20//NONSGML v1.0//EN
CALSCALE:GREGORIAN
METHOD:PUBLISH
X-WR-CALNAME:Optometry Scotland
X-ORIGINAL-URL:https://optometryscotland.org.uk
X-WR-CALDESC:Events for Optometry Scotland
REFRESH-INTERVAL;VALUE=DURATION:PT1H
X-Robots-Tag:noindex
X-PUBLISHED-TTL:PT1H
BEGIN:VTIMEZONE
TZID:Europe/London
BEGIN:DAYLIGHT
TZOFFSETFROM:+0000
TZOFFSETTO:+0100
TZNAME:BST
DTSTART:20240331T010000
END:DAYLIGHT
BEGIN:STANDARD
TZOFFSETFROM:+0100
TZOFFSETTO:+0000
TZNAME:GMT
DTSTART:20241027T010000
END:STANDARD
BEGIN:DAYLIGHT
TZOFFSETFROM:+0000
TZOFFSETTO:+0100
TZNAME:BST
DTSTART:20250330T010000
END:DAYLIGHT
BEGIN:STANDARD
TZOFFSETFROM:+0100
TZOFFSETTO:+0000
TZNAME:GMT
DTSTART:20251026T010000
END:STANDARD
BEGIN:DAYLIGHT
TZOFFSETFROM:+0000
TZOFFSETTO:+0100
TZNAME:BST
DTSTART:20260329T010000
END:DAYLIGHT
BEGIN:STANDARD
TZOFFSETFROM:+0100
TZOFFSETTO:+0000
TZNAME:GMT
DTSTART:20261025T010000
END:STANDARD
BEGIN:DAYLIGHT
TZOFFSETFROM:+0000
TZOFFSETTO:+0100
TZNAME:BST
DTSTART:20270328T010000
END:DAYLIGHT
BEGIN:STANDARD
TZOFFSETFROM:+0100
TZOFFSETTO:+0000
TZNAME:GMT
DTSTART:20271031T010000
END:STANDARD
BEGIN:DAYLIGHT
TZOFFSETFROM:+0000
TZOFFSETTO:+0100
TZNAME:BST
DTSTART:20280326T010000
END:DAYLIGHT
BEGIN:STANDARD
TZOFFSETFROM:+0100
TZOFFSETTO:+0000
TZNAME:GMT
DTSTART:20281029T010000
END:STANDARD
END:VTIMEZONE
BEGIN:VEVENT
DTSTART;TZID=Europe/London:20251110T080000
DTEND;TZID=Europe/London:20260317T170000
DTSTAMP:20260419T194310
CREATED:20250924T131504Z
LAST-MODIFIED:20250924T131504Z
UID:1322-1762761600-1773766800@optometryscotland.org.uk
SUMMARY:NES Emergency First Aid at Work
DESCRIPTION:Locations & Dates: \nEdinburgh – 10th November 2025\nAberdeen – 18th November 2025\nGlasgow – 25th November 2025\nPerth – 9th December 2025\nInverness – 17th March 2026 \nNES Optometry\, in conjunction with St Andrew’s First Aid\, are delighted to offer professional and practice staff the opportunity to attend a 1-day certified course. \nOn completion\, you will receive an ‘Emergency First Aid at Work’ certificate\, which is valid for three years.
URL:https://optometryscotland.org.uk/event/nes-emergency-first-aid-at-work/
END:VEVENT
BEGIN:VEVENT
DTSTART;TZID=Europe/London:20260210T140000
DTEND;TZID=Europe/London:20260210T150000
DTSTAMP:20260419T194310
CREATED:20260116T143721Z
LAST-MODIFIED:20260116T143721Z
UID:1766-1770732000-1770735600@optometryscotland.org.uk
SUMMARY:NES Rural Team: Diabetes Care in Shetland
DESCRIPTION:Who is it for? Remote & Rural Practitioners – Junior Doctors\, Medical Students\, A&E staff\, Community Nurses \nSession Descriptor: Current clinical guidelines and aims to enhance confidence and clinical competency in delivering high-quality\, patient-centered diabetes care. \nAim of Session: An overview of patient centred care based on current clinical guidelines within a remote and rural area. \n  \nAlison Jamieson (NHS Shetland)\, Diabetes Specialist Nurse\, NHS Shetland \n\n\n\n\n\n\n\n\nAdvanced Clinical Nurse Specialist\, Nurse prescriber\, NHS Scotland Nurse of the Year 2019 (Alison Irvine – Unison) DAFNE Advisor\, LEO graduate
URL:https://optometryscotland.org.uk/event/nes-rural-team-diabetes-care-in-shetland/
END:VEVENT
BEGIN:VEVENT
DTSTART;TZID=Europe/London:20260224T130000
DTEND;TZID=Europe/London:20260224T140000
DTSTAMP:20260419T194310
CREATED:20260116T143908Z
LAST-MODIFIED:20260116T143908Z
UID:1768-1771938000-1771941600@optometryscotland.org.uk
SUMMARY:Leading at Distance: The experience of leading in a remote Island Board
DESCRIPTION:Intended Audience: Session Summary: This session is designed for leaders at Band 7 and below. It will focus on my leadership journey in Shetland and Orkney\, emphasising trust-building\, relationship development\, alignment with the national agenda\, and maintaining wellbeing. \nSession Objective: The discussion will explore the specific leadership challenges encountered in island and remote environments such as professional isolation\, capacity\, infrastructure constraints\, and complex partnerships\, and together we will consider how our collective experiences may help overcome these obstacles. \nSally Hall\, Head of Programme – OL&EDNHS Education for Scotland \nSally Hall is Head of Programme – Organisational Development\, Leadership & Learning at NHS Education for Scotland\, with a remit for Leadership and OD and Leaner programmes\, both local and national. She has supported leadership
URL:https://optometryscotland.org.uk/event/leading-at-distance-the-experience-of-leading-in-a-remote-island-board/
END:VEVENT
BEGIN:VEVENT
DTSTART;TZID=Europe/London:20260225T080000
DTEND;TZID=Europe/London:20260325T170000
DTSTAMP:20260419T194310
CREATED:20260130T133437Z
LAST-MODIFIED:20260130T133437Z
UID:1848-1772006400-1774458000@optometryscotland.org.uk
SUMMARY:NES Independent Prescribing Placements
DESCRIPTION:Independent Prescribing Simulation-Based Sessions continue to run on Fridays\, Saturdays and Sundays. These hands-on workshops are held at Clinic M\, Stobhill Hospital\, Glasgow.  \nWe are pleased to announce additional session availability at two further locations: \nFalkirk Community Hospital\nWednesday 25th February\nWednesday 11th March\nWednesday 25th March \nUHI Inverness\nTuesday 10th March \nThese placements comprise a series of innovation scenarios around the groundbreaking EyeSi virtual reality slit lamp\, which is highly realistic diagnostic training system for medical professionals. This integrates cutting-edge virtual reality technology into the original hardware of a Haag Streit slit lamp\, allowing you to examine virtual patients in real-time with the biomicroscope\, fundoscopy lens and/or gonioscopy lens. \nEach day is made up of two sessions (am/pm)\, each session can be used for 3 Specialist or 3 General Interactive CPD points and 1 IP clinical placement. (N.B. These sessions cannot be repeated. To count towards your IP clinical placement\, you must have successfully passed your University Independent Prescribing course.) \nFurther Information and bookings\, for all IP Simulation-Based Sessions are available on Turas.
URL:https://optometryscotland.org.uk/event/nes-independent-prescribing-placements/
END:VEVENT
BEGIN:VEVENT
DTSTART;VALUE=DATE:20260228
DTEND;VALUE=DATE:20260303
DTSTAMP:20260419T194310
CREATED:20250909T105514Z
LAST-MODIFIED:20250909T105514Z
UID:1243-1772236800-1772495999@optometryscotland.org.uk
SUMMARY:100% Optical registration is officially live!
DESCRIPTION:Grab your badge early and be the first to hear about the newest updates for 2026.\n  \nThis is where eyewear meets eyecare and as an optical professional\, you should not be missing a spectacular and important event like this! \n  \nRegister for your free ticket and join us from 28 February – 2 March 2026 at Excel London\, where you will be joined by 11\,000+ optical professionals across three days\, all in the search for the latest eyewear\, equipment\, business solutions\, contact lenses and accessories for their optical practices.\n\n\n\n  \n\n\n\n\n\n\n\nREGISTER FOR FREE
URL:https://optometryscotland.org.uk/event/100-optical-registration-is-officially-live/
LOCATION:Excel London\, Royal Victoria Dock\, 1 Western Gateway\, London\, E16 1XL\, United Kingdom
END:VEVENT
BEGIN:VEVENT
DTSTART;TZID=Europe/London:20260310T080000
DTEND;TZID=Europe/London:20260422T170000
DTSTAMP:20260419T194310
CREATED:20260305T105635Z
LAST-MODIFIED:20260305T105635Z
UID:2019-1773129600-1776877200@optometryscotland.org.uk
SUMMARY:NES Remote & Rural Series of Learning Events 2026 - Further Sessions Added
DESCRIPTION:The National Centre for Remote & Rural Health & Care will continue to deliver its series of online remote and rural learning events for 2026. \nThe learning sessions for this year have been designed based on the feedback received from the Series of Learning survey from last year. \nSessions are run via MS Teams and will focus on primary and community care.  Please note that sessions are NOT recorded so we would encourage attendance on the day and you will be provided with a certificate of attendance after each session.  Sessions are relevant to a wide range of audiences supporting hybrid/remote working and continuous professional development.  Some sessions are also relevant to community members. \nIf you are interested in attending\, please click on the link in the table below to complete your registration details – you must register for each session. \nMore information can be found on the Turas Information Hub National Centre for Remote & Rural Health & Care Series of Learning Events | Turas | Learn (nhs.scot).   Further sessions are being arranged so please revisit this page regularly for updates. \n  \n\n\n\n\nSession Title\nDate \nTime\nRegistration Link\n\n\n Learning Teaching and Assessment Part 1\n\nTuesday 10 March 2026\n1.00pm – 2.00pm\n\nClick here to Register\n\n\n Learning Teaching and Assessment Park 2\n Wednesday 25 March 2026\n2.00pm – 3.00pm\nClick here to Register\n\n\n Rural Collaboration with Communities – power\, culture and practice\n Tuesday 24 March 2026\n1.00pm – 2.00pm\nClick here to Register\n\n\n GMC Credential in Rural and Remote Healthcare\n Wednesday 22 April 2026\n1.00pm – 2.00pm\nClick here to Register\n\n\n\nPlease get in touch at nes.ruralteam@nhs.scot if you require any further information. \nKind regards \nThe National Centre Team
URL:https://optometryscotland.org.uk/event/nes-remote-rural-series-of-learning-events-2026-further-sessions-added/
ORGANIZER;CN="NES Remote & Rural Team":MAILTO:nes.ruralteam@nhs.scot
END:VEVENT
BEGIN:VEVENT
DTSTART;VALUE=DATE:20260316
DTEND;VALUE=DATE:20260317
DTSTAMP:20260419T194310
CREATED:20260114T123435Z
LAST-MODIFIED:20260114T123435Z
UID:1702-1773619200-1773705599@optometryscotland.org.uk
SUMMARY:Cornea & Cataract Day 2026
DESCRIPTION:The UKISCRS Conference will take place in Edinburgh this year\, bringing this well-established national meeting to Scotland for the first time in some time. \nThe conference programme offers a high-quality update on corneal and cataract care\, covering a range of novel\, current and clinicaukiscrs Cornea and Cataract day edinburgh 16 03 2026lly relevant topics. The event is recognised for its strong educational content\, excellent national and international speakers\, and ample opportunity for discussion and professional exchange. \nThis meeting is open to all health professionals and represents a valuable development opportunity for those with an interest in anterior segment care. The registration fee is £100. \nMembers are encouraged to review the attached programme for full details.
URL:https://optometryscotland.org.uk/event/cornea-cataract-day-2026/
LOCATION:EH3 9SR\, Sheraton Grand Hotel\, Edinburgh\, Edinburgh\, EH3 9SR\, United Kingdom
END:VEVENT
BEGIN:VEVENT
DTSTART;VALUE=DATE:20260316
DTEND;VALUE=DATE:20260320
DTSTAMP:20260419T194310
CREATED:20260313T161639Z
LAST-MODIFIED:20260313T161639Z
UID:2055-1773619200-1773964799@optometryscotland.org.uk
SUMMARY:ABDO CPD events
DESCRIPTION:  \nMonday 16th March \nThursday 19th March\n7pm – 8pm\nOnline\n*3 CPD points*
URL:https://optometryscotland.org.uk/event/abdo-cpd-events/
END:VEVENT
BEGIN:VEVENT
DTSTART;VALUE=DATE:20260317
DTEND;VALUE=DATE:20260520
DTSTAMP:20260419T194310
CREATED:20260313T161956Z
LAST-MODIFIED:20260313T162039Z
UID:2057-1773705600-1779235199@optometryscotland.org.uk
SUMMARY:NES Emergency First Aid at Work
DESCRIPTION:Tuesday 17th March\nMonday 11th May\nTuesday 19th May\n9am – 5pm\nInverness\, Edinburgh\, Glasgow
URL:https://optometryscotland.org.uk/event/2057/
END:VEVENT
BEGIN:VEVENT
DTSTART;VALUE=DATE:20260318
DTEND;VALUE=DATE:20260626
DTSTAMP:20260419T194310
CREATED:20260413T104305Z
LAST-MODIFIED:20260413T104840Z
UID:2148-1773792000-1782431999@optometryscotland.org.uk
SUMMARY:FAST Education Session
DESCRIPTION:Chest Heart and Stroke Scotland are running an education session in partnership with the Scottish Government\, aiming to improve stroke recognition. It is strongly encouraged that clinical / non-clinical staff working with stroke patients in emergency departments\, primary care\, and the Scottish Ambulance Service attend one of the sessions. \n\n30-minute online session\nFor Emergency Department\, primary care\, and ambulance service patient-facing staff (clinical and non-clinical)\nCPD certificate available following attendance\n\nSession Dates \n\nWednesday 18th March 13:00\nFriday 3rd April 10:00\nTuesday 14th April 15:00\nWednesday 6th May 15:00\nTuesday 19th May 9:00\nWednesday 3rd June 15:00\nThursday 25th June 10:00
URL:https://optometryscotland.org.uk/event/fast-education-session-2/
ATTACH;FMTTYPE=application/pdf:https://optometryscotland.org.uk/wp-content/uploads/2026/04/FAST-Education-Poster.pdf
END:VEVENT
BEGIN:VEVENT
DTSTART;TZID=Europe/London:20260318T130000
DTEND;TZID=Europe/London:20260318T170000
DTSTAMP:20260419T194310
CREATED:20260107T101758Z
LAST-MODIFIED:20260107T101758Z
UID:1679-1773838800-1773853200@optometryscotland.org.uk
SUMMARY:FAST Education Session
DESCRIPTION:Chest Heart and Stroke Scotland are running an education session in partnership with the Scottish Government\, aiming to improve stroke recognition. It is strongly encouraged that clinical / non-clinical staff working with stroke patients in emergency departments\, primary care\, and the Scottish Ambulance Service attend one of the sessions. \n\n30-minute online session\nFor Emergency Department\, primary care\, and ambulance service patient-facing staff (clinical and non-clinical)\nCPD certificate available following attendanceFAST Education Poster\n\nSession Dates \n\nFriday 9th January 11:00\nThursday 22nd January 14:00\nThursday 5th February 11:00\nWednesday 18th February 15:00\nFriday 6th March 10:00\nWednesday 18th March 13:00\n\n 
URL:https://optometryscotland.org.uk/event/fast-education-session/
END:VEVENT
BEGIN:VEVENT
DTSTART;VALUE=DATE:20260323
DTEND;VALUE=DATE:20260331
DTSTAMP:20260419T194310
CREATED:20260313T162138Z
LAST-MODIFIED:20260313T162138Z
UID:2060-1774224000-1774915199@optometryscotland.org.uk
SUMMARY:NES Anterior Eye Spotlight
DESCRIPTION:Monday 23rd March\nMonday 30th March\n5.45pm – 8.45pm\nAberdeen and Ayr\n*9 CPD points* (6 available as IP)
URL:https://optometryscotland.org.uk/event/nes-anterior-eye-spotlight/
END:VEVENT
BEGIN:VEVENT
DTSTART;VALUE=DATE:20260325
DTEND;VALUE=DATE:20260531
DTSTAMP:20260419T194310
CREATED:20260313T162401Z
LAST-MODIFIED:20260313T162419Z
UID:2064-1774396800-1780185599@optometryscotland.org.uk
SUMMARY:NES IP simulation-based sessions
DESCRIPTION:Wednesday 25th March\n(& April – May dates)\n8.45am – 12.30pm / 1pm – 4.45pm\nFalkirk and Glasgow\n*3 CPD points* \n\n\n\n\n\n\n\nClick to book or for more information – FALKIRK\n\n\n\n\n\n\n\n  \n\n\n\n\n\n\n\nClick to book or for more information – GLASGOW\n\n\n\n\n\n\n\n 
URL:https://optometryscotland.org.uk/event/nes-ip-simulation-based-sessions/
END:VEVENT
BEGIN:VEVENT
DTSTART;TZID=Europe/London:20260326T123000
DTEND;TZID=Europe/London:20260326T133000
DTSTAMP:20260419T194310
CREATED:20260226T182254Z
LAST-MODIFIED:20260302T152025Z
UID:1978-1774528200-1774531800@optometryscotland.org.uk
SUMMARY:Macula Services Webinar
DESCRIPTION:Thursday\, March 26\, 12:30 PM \nUpcoming\n\nMacula Services: Understanding Challenges and Opportunities Together \nWebinar run by the Centre for Sustainable Delivery \n\n\n\nIn collaboration with EyeHealth Scotland\, we are delivering a webinar focused on current challenges and opportunities within hospital macula services across Scotland – for both new and return patients. \nThis webinar seeks to bring ophthalmology colleagues together from across the Health Boards to share current challenges and evolving pathways\, and will be highly relevant to colleagues in community optometry who are regularly referring into this service.  
URL:https://optometryscotland.org.uk/event/macula-services-webinar/
END:VEVENT
BEGIN:VEVENT
DTSTART;TZID=Europe/London:20260326T190000
DTEND;TZID=Europe/London:20260326T200000
DTSTAMP:20260419T194310
CREATED:20260313T162250Z
LAST-MODIFIED:20260313T162250Z
UID:2062-1774551600-1774555200@optometryscotland.org.uk
SUMMARY:NES Peer Discussion
DESCRIPTION:Wednesday 25th March\n7pm – 8pm\nOnline\n*3 CPD points*
URL:https://optometryscotland.org.uk/event/nes-peer-discussion/
END:VEVENT
BEGIN:VEVENT
DTSTART;VALUE=DATE:20260415
DTEND;VALUE=DATE:20260611
DTSTAMP:20260419T194310
CREATED:20260413T103521Z
LAST-MODIFIED:20260413T103521Z
UID:2146-1776211200-1781135999@optometryscotland.org.uk
SUMMARY:Rural Healthcare Educational Research Awareness and Skills Development Series
DESCRIPTION:We’re pleased to share a new professional development opportunity designed specifically for those working or living in remote\, rural\, or island communities.\nThe National Centre has commissioned the University of Aberdeen to deliver a Rural Healthcare Educational Research Series—a practical\, step‑by‑step programme that supports practitioners to turn everyday rural practice into meaningful research. \nThis series is ideal for anyone who wants to:\n• Spot research opportunities in their daily work\n• Design studies that truly reflect rural realities\n• Build skills in gaining funding\, disseminating findings\, and creating impact \nThe programme includes an introductory seminar followed by three interactive workshops covering: \n\nWhat rural healthcare education research is and why it matters\nFundamentals of designing strong research questions\nPlanning and developing a research project\nApproaches to dissemination\, knowledge sharing\, and impact generation\n\nWe are now inviting expressions of interest from colleagues across remote\, rural\, and island settings who would like to take part. More details can be found by clicking the link: https://mcusercontent.com/5391ceba312d6f81e0430a42b/files/11f2ba76-4c3f-5e54-7863-d7f77c70a139/Education_research_programme_flyer.02.pdf \nIf this sounds like something you—or someone in your team—would benefit from\, please submit your interest on our application Form\, and we will be in touch with next steps. \nThank you\, and we hope you’ll consider joining this exciting opportunity to help shape the future evidence base for rural healthcare education. \nCourse Schedule \n\nIntroductory Seminar: Wednesday 15th April 2026\, 12 – 13:30\nWorkshop 1: Wednesday 13th May 2026\, 12 – 13:30\nWorkshop 2: Wednesday 27th May 2026\, 12 – 13:30\nWorkshop 3: Wednesday 10th June 2026\, 12 – 13:30\n\nLocation: Online via MS Teams\nContact: For queries\, pleas
URL:https://optometryscotland.org.uk/event/rural-healthcare-educational-research-awareness-and-skills-development-series/
ORGANIZER;CN="NES Remote & Rural Team":MAILTO:nes.ruralteam@nhs.scot
END:VEVENT
BEGIN:VEVENT
DTSTART;TZID=Europe/London:20260507T190000
DTEND;TZID=Europe/London:20260507T200000
DTSTAMP:20260419T194310
CREATED:20260313T162603Z
LAST-MODIFIED:20260313T162603Z
UID:2067-1778180400-1778184000@optometryscotland.org.uk
SUMMARY:NES Shining a light on SLT - Dr Celia Alcalde
DESCRIPTION:Thursday 7th May\n7pm – 8pm\nOnline\n*1 CPD point*
URL:https://optometryscotland.org.uk/event/nes-shining-a-light-on-slt-dr-celia-alcalde/
END:VEVENT
BEGIN:VEVENT
DTSTART;TZID=Europe/London:20260510T080000
DTEND;TZID=Europe/London:20270125T170000
DTSTAMP:20260419T194310
CREATED:20260306T102644Z
LAST-MODIFIED:20260306T102644Z
UID:2022-1778400000-1800896400@optometryscotland.org.uk
SUMMARY:Eyecare Birmingham\, Huddersfield & Glasgow
DESCRIPTION:  \n\n\n\n\n\n\n\nEyecare Birmingham is now available to book with the £45 Early Bird offer running until 1st April 2026. We are moving to a fantastic new venue\, right in the heart of Birmingham on 20th September. Fazeley Studios will be the new home of Eyecare Birmingham and we can’t wait to see you all there!\n\n\n\n\n\n\n\n\n  \n\n\n\n\n\n\n\nOur next event is Eyecare Huddersfield\, which returns to the Cedar Court Hotel on 10th May. Both Eyecare Birmingham and Huddersfield will have 2 dedicated CPD tracks\, with education available for Optoms and DOs. Peer review is included and breakfast\, lunch and refreshments are all provided.\n\n\n\n\n\n\n\n\n  \n\n\n\n\n\n\n\nBoth events will welcome back a wide range of exhibitors\, bringing you the very best equipment\, frames\, lenses and services available in the industry. To book your tickets click the button below!\n\n\n\n\n\n\n\n\n  \n\n\n\n\n\n\n\n\n\n\n\n\n\n\n\nEyecare Huddersfield\n\n\n\n\n\n\n\n\n\n\n\n\n\n\n\n\n  \n\n\n\n\n\n\n\n\n\n\n\n\n\n\n\nEyecare Birmingham\n\n\n\n\n\n\n\n\n\n\n\n\n\n\n\n\n  \n\n\n\n\n\n\n\nEyecare Glasgow will return to the Hilton Hotel on 24th & 25th January 2027. Our flagship 2 day event will feature a large exhibition area and a wide range of CPD education\, as well as education for students\, pre-reg’s and support staff. Tickets include full access to the exhibition and education options\, with breakfast lunch and refreshments provided. Delegates also get a free drink and buffet dinner and tickets to The Big Night In! We’ll be hosting another fantastic evening of fun\, laughter and dancing on 24th January so make sure you don’t miss out!\n\n\n\n\n\n\n\n\n  \n\n\n\n\n\n\n\nClick the button below to book your tickets now!\n\n\n\n\n\n\n\n\n  \n\n\n\n\n\n\n\n\n\n\n\n\n\n\n\nEyecare Glasgow\n\n\n\n\n\n\n\n\n\n\n\n\n\n\n\n\n  \n\n\n\n\n\n\n\n\n\n\n\n\n\n\n\n\n\n\n\n\n\n\n\n\n\n\n\n\n\n\n\n\n\n\n\n\n\n\n\n\n\n\n\n\n\n\n\n\n\n\n\n\n\n\n\n\n\n\n\n\n\n\n 
URL:https://optometryscotland.org.uk/event/eyecare-birmingham-huddersfield-glasgow/
END:VEVENT
BEGIN:VEVENT
DTSTART;VALUE=DATE:20261114
DTEND;VALUE=DATE:20261116
DTSTAMP:20260419T194310
CREATED:20260406T112031Z
LAST-MODIFIED:20260406T112431Z
UID:2119-1794614400-1794787199@optometryscotland.org.uk
SUMMARY:Scottish Optical Conference (SOC) & Scottish Optometry Awards (SOA)
DESCRIPTION:We’re pleased to share that the dates for this year’s Scottish Optical Conference (SOC) & Scottish Optometry Awards (SOA) have now been confirmed. \nFurther details\, including programme information and booking\, will be announced in due course. \nStay tuned for more updates or visit the website here. 
URL:https://optometryscotland.org.uk/event/scottish-optical-conference/
END:VEVENT
END:VCALENDAR