BEGIN:VCALENDAR
VERSION:2.0
PRODID:-//Optometry Scotland - ECPv6.15.20//NONSGML v1.0//EN
CALSCALE:GREGORIAN
METHOD:PUBLISH
X-WR-CALNAME:Optometry Scotland
X-ORIGINAL-URL:https://optometryscotland.org.uk
X-WR-CALDESC:Events for Optometry Scotland
REFRESH-INTERVAL;VALUE=DURATION:PT1H
X-Robots-Tag:noindex
X-PUBLISHED-TTL:PT1H
BEGIN:VTIMEZONE
TZID:Europe/London
BEGIN:DAYLIGHT
TZOFFSETFROM:+0000
TZOFFSETTO:+0100
TZNAME:BST
DTSTART:20240331T010000
END:DAYLIGHT
BEGIN:STANDARD
TZOFFSETFROM:+0100
TZOFFSETTO:+0000
TZNAME:GMT
DTSTART:20241027T010000
END:STANDARD
BEGIN:DAYLIGHT
TZOFFSETFROM:+0000
TZOFFSETTO:+0100
TZNAME:BST
DTSTART:20250330T010000
END:DAYLIGHT
BEGIN:STANDARD
TZOFFSETFROM:+0100
TZOFFSETTO:+0000
TZNAME:GMT
DTSTART:20251026T010000
END:STANDARD
BEGIN:DAYLIGHT
TZOFFSETFROM:+0000
TZOFFSETTO:+0100
TZNAME:BST
DTSTART:20260329T010000
END:DAYLIGHT
BEGIN:STANDARD
TZOFFSETFROM:+0100
TZOFFSETTO:+0000
TZNAME:GMT
DTSTART:20261025T010000
END:STANDARD
BEGIN:DAYLIGHT
TZOFFSETFROM:+0000
TZOFFSETTO:+0100
TZNAME:BST
DTSTART:20270328T010000
END:DAYLIGHT
BEGIN:STANDARD
TZOFFSETFROM:+0100
TZOFFSETTO:+0000
TZNAME:GMT
DTSTART:20271031T010000
END:STANDARD
END:VTIMEZONE
BEGIN:VEVENT
DTSTART;TZID=Europe/London:20251110T080000
DTEND;TZID=Europe/London:20260317T170000
DTSTAMP:20260418T221845
CREATED:20250924T131504Z
LAST-MODIFIED:20250924T131504Z
UID:1322-1762761600-1773766800@optometryscotland.org.uk
SUMMARY:NES Emergency First Aid at Work
DESCRIPTION:Locations & Dates: \nEdinburgh – 10th November 2025\nAberdeen – 18th November 2025\nGlasgow – 25th November 2025\nPerth – 9th December 2025\nInverness – 17th March 2026 \nNES Optometry\, in conjunction with St Andrew’s First Aid\, are delighted to offer professional and practice staff the opportunity to attend a 1-day certified course. \nOn completion\, you will receive an ‘Emergency First Aid at Work’ certificate\, which is valid for three years.
URL:https://optometryscotland.org.uk/event/nes-emergency-first-aid-at-work/
END:VEVENT
BEGIN:VEVENT
DTSTART;VALUE=DATE:20260126
DTEND;VALUE=DATE:20260127
DTSTAMP:20260418T221845
CREATED:20251020T132718Z
LAST-MODIFIED:20251023T122648Z
UID:1435-1769385600-1769471999@optometryscotland.org.uk
SUMMARY:NES Diabetes From the Retina to Reality NES
DESCRIPTION:Diabetes: From the Retina to RealityJoin us for a dynamic\, in-person CPD day designed to deepen your understanding of diabetes\, its impact on eye health\, and beyond. \nDate: Monday 26 January 2026\nLocation: Stirling Court Hotel\, University of Stirling\nTime: 9am-5pm \nThis full-day event will feature an interactive mix of lectures\, peer discussion and workshops exploring the lived experience of diabetes. \nMore details and registration information coming soon.
URL:https://optometryscotland.org.uk/event/nes-diabetes-from-the-retina-to-reality-nes/
LOCATION:Stirling Court Hotel\, Stirling
END:VEVENT
BEGIN:VEVENT
DTSTART;VALUE=DATE:20260126
DTEND;VALUE=DATE:20260127
DTSTAMP:20260418T221845
CREATED:20251120T125756Z
LAST-MODIFIED:20251120T125805Z
UID:1554-1769385600-1769471999@optometryscotland.org.uk
SUMMARY:NES Optometry Diabetes: From the Retina to Reality
DESCRIPTION:Today is World Diabetes Day\, and to mark the occasion\, we invite you to an immersive and thought-provoking CPD event on Monday\, 26th January\, at the Stirling Court Hotel. \nSpecifically designed for eyecare professionals\, this event will invite you to step into the shoes of someone living with diabetes and see the world through their eyes. \nWhat to Expect  \nPresentations from leading experts\, including Diabetes Scotland\, Ophthalmology Specialists\, and the creator of MyDiabetesMyWay. \nBy attending the event you will: \n\nLearn about the latest technology and treatment in diabetes care\nParticipate in peer discussion & interactive workshops \nExplore the physiological impact of a diabetes diagnosis\nGain insights into OCT biomarkers and their role in the treatment of diabetic retinopathy\n\nStrike Out Stigma \nToday\, Diabetes UK launches the “Strike Out Stigma” campaign which highlights: \n\nOver 70% of people with diabetes report experiencing blame or judgement\nMore than 50% of people with diabetes avoid medical appointments due to stigma or shame.\n\nAs eyecare professionals\, these statistics are highly relevant to us. The first signs of microvascular changes in diabetes can often be detected during routine eye examinations and identifying these early\, asymptomatic changes is crucial\, not only for ocular health but overall health of the people we care for. By staying informed\, we can support both our patients’ ocular health and their general health – as with diabetes\, the two go hand in hand. \nEarn 10 CPD points and start 2026 by expanding both your clinical expertise and compassionate understanding of diabetes. \nBook now\, to enhance patient-centred care and Strike Out Stigma. \nLocation: Stirling Court Hotel\, University of Stirling\nDate: Monday 26th of January\nTime: 9am-5pm
URL:https://optometryscotland.org.uk/event/nes-optometry-diabetes-from-the-retina-to-reality/
LOCATION:Stirling Court Hotel\, Stirling
END:VEVENT
END:VCALENDAR