BEGIN:VCALENDAR
VERSION:2.0
PRODID:-//Optometry Scotland - ECPv6.15.20//NONSGML v1.0//EN
CALSCALE:GREGORIAN
METHOD:PUBLISH
X-ORIGINAL-URL:https://optometryscotland.org.uk
X-WR-CALDESC:Events for Optometry Scotland
REFRESH-INTERVAL;VALUE=DURATION:PT1H
X-Robots-Tag:noindex
X-PUBLISHED-TTL:PT1H
BEGIN:VTIMEZONE
TZID:Europe/London
BEGIN:DAYLIGHT
TZOFFSETFROM:+0000
TZOFFSETTO:+0100
TZNAME:BST
DTSTART:20240331T010000
END:DAYLIGHT
BEGIN:STANDARD
TZOFFSETFROM:+0100
TZOFFSETTO:+0000
TZNAME:GMT
DTSTART:20241027T010000
END:STANDARD
BEGIN:DAYLIGHT
TZOFFSETFROM:+0000
TZOFFSETTO:+0100
TZNAME:BST
DTSTART:20250330T010000
END:DAYLIGHT
BEGIN:STANDARD
TZOFFSETFROM:+0100
TZOFFSETTO:+0000
TZNAME:GMT
DTSTART:20251026T010000
END:STANDARD
BEGIN:DAYLIGHT
TZOFFSETFROM:+0000
TZOFFSETTO:+0100
TZNAME:BST
DTSTART:20260329T010000
END:DAYLIGHT
BEGIN:STANDARD
TZOFFSETFROM:+0100
TZOFFSETTO:+0000
TZNAME:GMT
DTSTART:20261025T010000
END:STANDARD
BEGIN:DAYLIGHT
TZOFFSETFROM:+0000
TZOFFSETTO:+0100
TZNAME:BST
DTSTART:20270328T010000
END:DAYLIGHT
BEGIN:STANDARD
TZOFFSETFROM:+0100
TZOFFSETTO:+0000
TZNAME:GMT
DTSTART:20271031T010000
END:STANDARD
END:VTIMEZONE
BEGIN:VEVENT
DTSTART;TZID=Europe/London:20251110T080000
DTEND;TZID=Europe/London:20260317T170000
DTSTAMP:20260419T230458
CREATED:20250924T131504Z
LAST-MODIFIED:20250924T131504Z
UID:1322-1762761600-1773766800@optometryscotland.org.uk
SUMMARY:NES Emergency First Aid at Work
DESCRIPTION:Locations & Dates: \nEdinburgh – 10th November 2025\nAberdeen – 18th November 2025\nGlasgow – 25th November 2025\nPerth – 9th December 2025\nInverness – 17th March 2026 \nNES Optometry\, in conjunction with St Andrew’s First Aid\, are delighted to offer professional and practice staff the opportunity to attend a 1-day certified course. \nOn completion\, you will receive an ‘Emergency First Aid at Work’ certificate\, which is valid for three years.
URL:https://optometryscotland.org.uk/event/nes-emergency-first-aid-at-work/
END:VEVENT
BEGIN:VEVENT
DTSTART;TZID=Europe/London:20251127T190000
DTEND;TZID=Europe/London:20251127T200000
DTSTAMP:20260419T230458
CREATED:20251013T154336Z
LAST-MODIFIED:20251013T154942Z
UID:1406-1764270000-1764273600@optometryscotland.org.uk
SUMMARY:NES Essential Skills for Compassionate Eye Care
DESCRIPTION:As eye care professionals\, we often encounter patients and colleagues experiencing loss. This webinar will look at how to approach sensitive situations and build your resilience to these types of interactions. \nGain practical tools and confidence to : \n\nRecognise and respond to bereavement in your practice\nCommunicate sensitively with those who are grieving\nSupport your own wellbeing after difficult interactions\n\nOn completion of this webinar\, attendees should be aware of how to sensitively approach interactions with those who are bereaved\, to have the confidence to talk\, or just listen. \nSecure your place now—because compassionate care starts with understanding. \nThursday 27th November 2025 (online) \n19:00-20:00 \n1 interactive GOC CPD point available \nBOOK HERE: https://learn.nes.nhs.scot/86011
URL:https://optometryscotland.org.uk/event/nes-essential-skills-for-compassionate-eye-care/
END:VEVENT
BEGIN:VEVENT
DTSTART;TZID=Europe/London:20251127T190000
DTEND;TZID=Europe/London:20251127T200000
DTSTAMP:20260419T230458
CREATED:20251020T132511Z
LAST-MODIFIED:20251020T132511Z
UID:1433-1764270000-1764273600@optometryscotland.org.uk
SUMMARY:NES Finding the words webinar
DESCRIPTION:Essential Skills for Compassionate Eye Care \nAs eye care professionals\, we often encounter patients and colleagues experiencing loss. This webinar will look at how to approach sensitive situations and build your resilience to these types of interactions.\nGain practical tools and confidence to : \n• Recognise and respond to bereavement in your practice\n• Communicate sensitively with those who are grieving\n• Support your own wellbeing after difficult interactions \nDate: Thursday 27th November 2025 (online)\nTime: 19:00-20:00\nLocation: Online\n1 interactive GOC CPD point available \nOn completion of this webinar\, attendees should be aware of how to sensitively approach interactions with those who are bereaved\, to have the confidence to talk\, or just listen. \nSecure your place now—because compassionate care starts with understanding.
URL:https://optometryscotland.org.uk/event/nes-finding-the-words-webinar/
END:VEVENT
END:VCALENDAR