BEGIN:VCALENDAR
VERSION:2.0
PRODID:-//Optometry Scotland - ECPv6.15.20//NONSGML v1.0//EN
CALSCALE:GREGORIAN
METHOD:PUBLISH
X-WR-CALNAME:Optometry Scotland
X-ORIGINAL-URL:https://optometryscotland.org.uk
X-WR-CALDESC:Events for Optometry Scotland
REFRESH-INTERVAL;VALUE=DURATION:PT1H
X-Robots-Tag:noindex
X-PUBLISHED-TTL:PT1H
BEGIN:VTIMEZONE
TZID:Europe/London
BEGIN:DAYLIGHT
TZOFFSETFROM:+0000
TZOFFSETTO:+0100
TZNAME:BST
DTSTART:20240331T010000
END:DAYLIGHT
BEGIN:STANDARD
TZOFFSETFROM:+0100
TZOFFSETTO:+0000
TZNAME:GMT
DTSTART:20241027T010000
END:STANDARD
BEGIN:DAYLIGHT
TZOFFSETFROM:+0000
TZOFFSETTO:+0100
TZNAME:BST
DTSTART:20250330T010000
END:DAYLIGHT
BEGIN:STANDARD
TZOFFSETFROM:+0100
TZOFFSETTO:+0000
TZNAME:GMT
DTSTART:20251026T010000
END:STANDARD
BEGIN:DAYLIGHT
TZOFFSETFROM:+0000
TZOFFSETTO:+0100
TZNAME:BST
DTSTART:20260329T010000
END:DAYLIGHT
BEGIN:STANDARD
TZOFFSETFROM:+0100
TZOFFSETTO:+0000
TZNAME:GMT
DTSTART:20261025T010000
END:STANDARD
BEGIN:DAYLIGHT
TZOFFSETFROM:+0000
TZOFFSETTO:+0100
TZNAME:BST
DTSTART:20270328T010000
END:DAYLIGHT
BEGIN:STANDARD
TZOFFSETFROM:+0100
TZOFFSETTO:+0000
TZNAME:GMT
DTSTART:20271031T010000
END:STANDARD
END:VTIMEZONE
BEGIN:VEVENT
DTSTART;TZID=Europe/London:20251110T080000
DTEND;TZID=Europe/London:20260317T170000
DTSTAMP:20260419T043725
CREATED:20250924T131504Z
LAST-MODIFIED:20250924T131504Z
UID:1322-1762761600-1773766800@optometryscotland.org.uk
SUMMARY:NES Emergency First Aid at Work
DESCRIPTION:Locations & Dates: \nEdinburgh – 10th November 2025\nAberdeen – 18th November 2025\nGlasgow – 25th November 2025\nPerth – 9th December 2025\nInverness – 17th March 2026 \nNES Optometry\, in conjunction with St Andrew’s First Aid\, are delighted to offer professional and practice staff the opportunity to attend a 1-day certified course. \nOn completion\, you will receive an ‘Emergency First Aid at Work’ certificate\, which is valid for three years.
URL:https://optometryscotland.org.uk/event/nes-emergency-first-aid-at-work/
END:VEVENT
BEGIN:VEVENT
DTSTART;TZID=Europe/London:20251125T190000
DTEND;TZID=Europe/London:20251125T200000
DTSTAMP:20260419T043725
CREATED:20251027T155423Z
LAST-MODIFIED:20251027T155423Z
UID:1458-1764097200-1764100800@optometryscotland.org.uk
SUMMARY:FREE CPD Webinar: CHEC
DESCRIPTION:CHEC – GLP1 RAs: The Good\, The Bad and Why We Should Care C-113803\n\n\n\n\nJoin us for another FREE CPD Webinar on 25th November in collaboration with CHEC.\n\n\n\n\n\n\n\n\n  \n\n\n\n\n\n\n\nThe session explores the ocular implications of GLP-1 receptor agonists\, a rapidly growing class of medications used in the treatment of type 2 diabetes and obesity. With increasing patient uptake\, it’s essential for optometrists and dispensing opticians to understand potential visual complications such as worsening diabetic retinopathy\, vitreous haemorrhage\, and NAION. This session will provide practical guidance on clinical monitoring\, communication strategies\, and referral considerations to support safe\, patient-centred care.\n\n\n\n\n\n\n\n\n  \n\n\n\n\n\n\n\nThe Webinar is worth 1 interactive CPD point for Optoms and DOs. Click the button below to register your free place…
URL:https://optometryscotland.org.uk/event/free-cpd-webinar-chec/
END:VEVENT
BEGIN:VEVENT
DTSTART;TZID=Europe/London:20251125T190000
DTEND;TZID=Europe/London:20251125T200000
DTSTAMP:20260419T043725
CREATED:20251107T094901Z
LAST-MODIFIED:20251107T094901Z
UID:1511-1764097200-1764100800@optometryscotland.org.uk
SUMMARY:CHEC GLP1 RAs: The Good\, The Bad and Why We Should Care C-113803
DESCRIPTION:This session explores the ocular implications of GLP-1 receptor agonists\, a rapidly growing class of medications used in the treatment of type 2 diabetes and obesity. With increasing patient uptake\, it’s essential for optometrists and dispensing opticians to understand potential visual complications such as worsening diabetic retinopathy\, vitreous haemorrhage\, and NAION. This session will provide practical guidance on clinical monitoring\, communication strategies\, and referral considerations to support safe\, patient-centred care. \n  \n“As a valued member of the esteemed CHEC team in the Lancashire area\, Dr. Moemen brings over two decades of experience as an accomplished ophthalmic surgeon\, having worked across three continents. Providing the highest level of care is his top priority\, and he treats each patient with the same dedication and compassion as a cherished family member. \nDr. Moemen places a strong emphasis on continuous growth and professional development. By actively participating in medical conferences and meetings\, he shares insights and knowledge with fellow professionals\, enhancing expertise that ultimately benefits patient care. \nIn addition to his clinical work\, Dr. Moemen has been actively involved for more than a decade in providing quality eye care through notable charity organisations in Egypt. This impactful work has included treating and performing surgeries for various eye conditions\, such as cataract and glaucoma surgeries\, further contributing to the well-being of patients both locally and abroad. \nAt CHEC\, Dr. Moemen’s commitment to exceptional patient care and continuous improvement drives the mission to deliver outstanding ophthalmic services in the Lancashire community.”
URL:https://optometryscotland.org.uk/event/chec-glp1-ras-the-good-the-bad-and-why-we-should-care-c-113803/
END:VEVENT
END:VCALENDAR