BEGIN:VCALENDAR
VERSION:2.0
PRODID:-//Optometry Scotland - ECPv6.15.20//NONSGML v1.0//EN
CALSCALE:GREGORIAN
METHOD:PUBLISH
X-ORIGINAL-URL:https://optometryscotland.org.uk
X-WR-CALDESC:Events for Optometry Scotland
REFRESH-INTERVAL;VALUE=DURATION:PT1H
X-Robots-Tag:noindex
X-PUBLISHED-TTL:PT1H
BEGIN:VTIMEZONE
TZID:Europe/London
BEGIN:DAYLIGHT
TZOFFSETFROM:+0000
TZOFFSETTO:+0100
TZNAME:BST
DTSTART:20240331T010000
END:DAYLIGHT
BEGIN:STANDARD
TZOFFSETFROM:+0100
TZOFFSETTO:+0000
TZNAME:GMT
DTSTART:20241027T010000
END:STANDARD
BEGIN:DAYLIGHT
TZOFFSETFROM:+0000
TZOFFSETTO:+0100
TZNAME:BST
DTSTART:20250330T010000
END:DAYLIGHT
BEGIN:STANDARD
TZOFFSETFROM:+0100
TZOFFSETTO:+0000
TZNAME:GMT
DTSTART:20251026T010000
END:STANDARD
BEGIN:DAYLIGHT
TZOFFSETFROM:+0000
TZOFFSETTO:+0100
TZNAME:BST
DTSTART:20260329T010000
END:DAYLIGHT
BEGIN:STANDARD
TZOFFSETFROM:+0100
TZOFFSETTO:+0000
TZNAME:GMT
DTSTART:20261025T010000
END:STANDARD
END:VTIMEZONE
BEGIN:VEVENT
DTSTART;TZID=Europe/London:20251021T190000
DTEND;TZID=Europe/London:20251021T200000
DTSTAMP:20260418T202613
CREATED:20250924T130727Z
LAST-MODIFIED:20250929T080456Z
UID:1313-1761073200-1761076800@optometryscotland.org.uk
SUMMARY:NES Retinal Cases Peer Discussion
DESCRIPTION:Back by Popular Demand – Peer Discussion: Retinal Cases \nDate: Tuesday 21st October 2025\nLocation: Online\nTime: 7pm – 8pm \nFollowing the fantastic feedback\, we’re excited to bring back our interactive online peer discussion focused on three thought-provoking retinal cases. \nGain insights\nConnect with peers\nEarn 3 general interactive CPD points \nThis is a great opportunity to share perspectives\, deepen your clinical understanding\, and engage in meaningful discussion with fellow optometrists. \nSpaces are very limited\, please only book if you’re absolutely certain you can attend. At NES\, we completely understand that “life happens” – so if you need to cancel\, please do so with as much notice as possible. \nThank you.
URL:https://optometryscotland.org.uk/event/nes-retinal-cases-peer-discussion/
END:VEVENT
END:VCALENDAR