BEGIN:VCALENDAR
VERSION:2.0
PRODID:-//Optometry Scotland - ECPv6.15.20//NONSGML v1.0//EN
CALSCALE:GREGORIAN
METHOD:PUBLISH
X-ORIGINAL-URL:https://optometryscotland.org.uk
X-WR-CALDESC:Events for Optometry Scotland
REFRESH-INTERVAL;VALUE=DURATION:PT1H
X-Robots-Tag:noindex
X-PUBLISHED-TTL:PT1H
BEGIN:VTIMEZONE
TZID:Europe/London
BEGIN:DAYLIGHT
TZOFFSETFROM:+0000
TZOFFSETTO:+0100
TZNAME:BST
DTSTART:20240331T010000
END:DAYLIGHT
BEGIN:STANDARD
TZOFFSETFROM:+0100
TZOFFSETTO:+0000
TZNAME:GMT
DTSTART:20241027T010000
END:STANDARD
BEGIN:DAYLIGHT
TZOFFSETFROM:+0000
TZOFFSETTO:+0100
TZNAME:BST
DTSTART:20250330T010000
END:DAYLIGHT
BEGIN:STANDARD
TZOFFSETFROM:+0100
TZOFFSETTO:+0000
TZNAME:GMT
DTSTART:20251026T010000
END:STANDARD
BEGIN:DAYLIGHT
TZOFFSETFROM:+0000
TZOFFSETTO:+0100
TZNAME:BST
DTSTART:20260329T010000
END:DAYLIGHT
BEGIN:STANDARD
TZOFFSETFROM:+0100
TZOFFSETTO:+0000
TZNAME:GMT
DTSTART:20261025T010000
END:STANDARD
END:VTIMEZONE
BEGIN:VEVENT
DTSTART;VALUE=DATE:20251007
DTEND;VALUE=DATE:20251008
DTSTAMP:20260419T055413
CREATED:20250924T130925Z
LAST-MODIFIED:20250924T131003Z
UID:1315-1759795200-1759881599@optometryscotland.org.uk
SUMMARY:NES CPD Event: Inverness. Final spaces remaining!  Tuesday 7th October
DESCRIPTION:Clarity in Care: Navigating Challenges in Clinical Practice \nDate: Tuesday 7th October \nLocation: UHI House\, Inverness \nTime: 9am for 9.30-4.15pm \nJoin us for an engaging\, in-person CPD event led by expert speakers\, designed to support your professional development. Topics will include medico-legal\, neuro-ophthalmology\, communication and much more. You’ll also get hands-on time with the EyeSi simulator\, offering valuable clinical insight and interactive learning. \n13 interactive CPD points available
URL:https://optometryscotland.org.uk/event/cpd-event-inverness-final-spaces-remaining-tuesday-7th-october/
END:VEVENT
END:VCALENDAR