BEGIN:VCALENDAR
VERSION:2.0
PRODID:-//Optometry Scotland - ECPv6.15.20//NONSGML v1.0//EN
CALSCALE:GREGORIAN
METHOD:PUBLISH
X-WR-CALNAME:Optometry Scotland
X-ORIGINAL-URL:https://optometryscotland.org.uk
X-WR-CALDESC:Events for Optometry Scotland
REFRESH-INTERVAL;VALUE=DURATION:PT1H
X-Robots-Tag:noindex
X-PUBLISHED-TTL:PT1H
BEGIN:VTIMEZONE
TZID:Europe/London
BEGIN:DAYLIGHT
TZOFFSETFROM:+0000
TZOFFSETTO:+0100
TZNAME:BST
DTSTART:20240331T010000
END:DAYLIGHT
BEGIN:STANDARD
TZOFFSETFROM:+0100
TZOFFSETTO:+0000
TZNAME:GMT
DTSTART:20241027T010000
END:STANDARD
BEGIN:DAYLIGHT
TZOFFSETFROM:+0000
TZOFFSETTO:+0100
TZNAME:BST
DTSTART:20250330T010000
END:DAYLIGHT
BEGIN:STANDARD
TZOFFSETFROM:+0100
TZOFFSETTO:+0000
TZNAME:GMT
DTSTART:20251026T010000
END:STANDARD
BEGIN:DAYLIGHT
TZOFFSETFROM:+0000
TZOFFSETTO:+0100
TZNAME:BST
DTSTART:20260329T010000
END:DAYLIGHT
BEGIN:STANDARD
TZOFFSETFROM:+0100
TZOFFSETTO:+0000
TZNAME:GMT
DTSTART:20261025T010000
END:STANDARD
END:VTIMEZONE
BEGIN:VEVENT
DTSTART;TZID=Europe/London:20251002T084500
DTEND;TZID=Europe/London:20251002T090000
DTSTAMP:20260421T092750
CREATED:20250929T081506Z
LAST-MODIFIED:20250929T081506Z
UID:1345-1759394700-1759395600@optometryscotland.org.uk
SUMMARY:Clear Vision\, Clear Mind - Second Team Session
DESCRIPTION:Join us for the second Clear Mind\, Clear Vision team session – a chance to pause\, reflect\, and recharge together. This time\, we’ll be exploring the theme of  Kindness – self compassion and kindness to others.  \nLet’s continue nurturing a culture of wellbeing\, one mindful moment at a time. \nWe look forward to seeing you there! Click below to find out more and register.
URL:https://optometryscotland.org.uk/event/clear-vision-clear-mind-second-team-session/
END:VEVENT
END:VCALENDAR