BEGIN:VCALENDAR
VERSION:2.0
PRODID:-//Optometry Scotland - ECPv6.15.20//NONSGML v1.0//EN
CALSCALE:GREGORIAN
METHOD:PUBLISH
X-WR-CALNAME:Optometry Scotland
X-ORIGINAL-URL:https://optometryscotland.org.uk
X-WR-CALDESC:Events for Optometry Scotland
REFRESH-INTERVAL;VALUE=DURATION:PT1H
X-Robots-Tag:noindex
X-PUBLISHED-TTL:PT1H
BEGIN:VTIMEZONE
TZID:Europe/London
BEGIN:DAYLIGHT
TZOFFSETFROM:+0000
TZOFFSETTO:+0100
TZNAME:BST
DTSTART:20240331T010000
END:DAYLIGHT
BEGIN:STANDARD
TZOFFSETFROM:+0100
TZOFFSETTO:+0000
TZNAME:GMT
DTSTART:20241027T010000
END:STANDARD
BEGIN:DAYLIGHT
TZOFFSETFROM:+0000
TZOFFSETTO:+0100
TZNAME:BST
DTSTART:20250330T010000
END:DAYLIGHT
BEGIN:STANDARD
TZOFFSETFROM:+0100
TZOFFSETTO:+0000
TZNAME:GMT
DTSTART:20251026T010000
END:STANDARD
BEGIN:DAYLIGHT
TZOFFSETFROM:+0000
TZOFFSETTO:+0100
TZNAME:BST
DTSTART:20260329T010000
END:DAYLIGHT
BEGIN:STANDARD
TZOFFSETFROM:+0100
TZOFFSETTO:+0000
TZNAME:GMT
DTSTART:20261025T010000
END:STANDARD
END:VTIMEZONE
BEGIN:VEVENT
DTSTART;TZID=Europe/London:20251001T190000
DTEND;TZID=Europe/London:20251001T203000
DTSTAMP:20260421T092700
CREATED:20250924T090719Z
LAST-MODIFIED:20250924T090727Z
UID:1307-1759345200-1759350600@optometryscotland.org.uk
SUMMARY:FREE CPD Webinar - 1st October 7pm
DESCRIPTION:Join us for another FREE WEBINAR with Scotlens on 1st October at 7pm. \nThis webinar looks at patient examples that highlight why ortho-k night lenses are the preferred mode of wear. High myopia\, myopia control\, post-laser fitting and soft lens dry eye intolerance cases will be shown. Giving good insight for current orthokeratologists or those just interested in more unusual cases. Level: Aimed at new and existing night lens fitters. Suitable for all levels of experience. \nThe Webinar is worth 1 interactive CPD point for Optoms\, DOs and CLOs. To register your place\, click the link below…
URL:https://optometryscotland.org.uk/event/free-cpd-webinar-1st-october-7pm/
END:VEVENT
END:VCALENDAR