BEGIN:VCALENDAR
VERSION:2.0
PRODID:-//Optometry Scotland - ECPv6.15.20//NONSGML v1.0//EN
CALSCALE:GREGORIAN
METHOD:PUBLISH
X-ORIGINAL-URL:https://optometryscotland.org.uk
X-WR-CALDESC:Events for Optometry Scotland
REFRESH-INTERVAL;VALUE=DURATION:PT1H
X-Robots-Tag:noindex
X-PUBLISHED-TTL:PT1H
BEGIN:VTIMEZONE
TZID:Europe/London
BEGIN:DAYLIGHT
TZOFFSETFROM:+0000
TZOFFSETTO:+0100
TZNAME:BST
DTSTART:20240331T010000
END:DAYLIGHT
BEGIN:STANDARD
TZOFFSETFROM:+0100
TZOFFSETTO:+0000
TZNAME:GMT
DTSTART:20241027T010000
END:STANDARD
BEGIN:DAYLIGHT
TZOFFSETFROM:+0000
TZOFFSETTO:+0100
TZNAME:BST
DTSTART:20250330T010000
END:DAYLIGHT
BEGIN:STANDARD
TZOFFSETFROM:+0100
TZOFFSETTO:+0000
TZNAME:GMT
DTSTART:20251026T010000
END:STANDARD
BEGIN:DAYLIGHT
TZOFFSETFROM:+0000
TZOFFSETTO:+0100
TZNAME:BST
DTSTART:20260329T010000
END:DAYLIGHT
BEGIN:STANDARD
TZOFFSETFROM:+0100
TZOFFSETTO:+0000
TZNAME:GMT
DTSTART:20261025T010000
END:STANDARD
END:VTIMEZONE
BEGIN:VEVENT
DTSTART;VALUE=DATE:20250921
DTEND;VALUE=DATE:20250923
DTSTAMP:20260423T095910
CREATED:20250916T093951Z
LAST-MODIFIED:20250916T093951Z
UID:1268-1758412800-1758585599@optometryscotland.org.uk
SUMMARY:Eyecare Education - Free Webinar
DESCRIPTION:Eyecare Birmingham is back at The Midlands Art Centre on 21st September. We have a packed day of CPD with education being delivered by: Aces\, Bausch & Lomb\, Scope\, CHEC & Mainline\, with more CPD available in the exhibition area.\n\n\n\n\n\n\n\n\n  \n\n\n\n\n\n\n\nThere will be over 20 Interactive CPD points available\, including peer review over two CPD tracks\, with breakfast pastries\, refreshments and a hot lunch buffet all provided.\n\n\n\n\n\n\n\n\n  \n\n\n\n\n\n\n\nTickets are just £59 per person!
URL:https://optometryscotland.org.uk/event/eyecare-education-free-webinar/
LOCATION:The Midlands Art Centre\, Cannon Hill Park\, Birmingham\, B12 9QH\, United Kingdom
END:VEVENT
END:VCALENDAR